BEGIN:VCALENDAR
VERSION:2.0
PRODID:-//Sabre//Sabre VObject 4.5.8//EN
CALSCALE:GREGORIAN
BEGIN:VEVENT
UID:sabre-vobject-a21f77d2-0a46-48d3-b716-1a66e0edaa6c
DTSTAMP:20260425T110506Z
SUMMARY:Rubens ist zurück
DESCRIPTION:https://www.neuburg-donau.de/rubens-ist-zurueck_id3446
DTSTART;TZID=Europe/Berlin:20250101T000000
DTEND;TZID=Europe/Berlin:20271231T000000
LOCATION:Residenzschloss Neuburg\, Residenzstraße 2\, 86633 Neuburg an der
  Donau
END:VEVENT
END:VCALENDAR
