BEGIN:VCALENDAR
VERSION:2.0
PRODID:-//Sabre//Sabre VObject 4.5.8//EN
CALSCALE:GREGORIAN
BEGIN:VEVENT
UID:sabre-vobject-e47c3b65-a8ec-480d-8a52-115535816970
DTSTAMP:20260423T124022Z
SUMMARY:Tatort Altstadt
DESCRIPTION:https://www.neuburg-donau.de/tatort-altstadt_id36077
DTSTART;TZID=Europe/Berlin:20250101T000000
DTEND;TZID=Europe/Berlin:20271231T000000
LOCATION:Tourist-Information\, Ottheinrichplatz A 118\, 86633 Neuburg
END:VEVENT
END:VCALENDAR
