BEGIN:VCALENDAR
VERSION:2.0
PRODID:-//Sabre//Sabre VObject 4.5.8//EN
CALSCALE:GREGORIAN
BEGIN:VEVENT
UID:sabre-vobject-32b0fe0c-aca3-4579-8e45-ef18cf2a1e75
DTSTAMP:20260421T110817Z
SUMMARY:Familienmittwoch | Eine musikalische Zeitreise
DESCRIPTION:https://www.neuburg-donau.de/familienmittwoch-eine-musikalische
 -zeitreise_id37792
DTSTART;TZID=Europe/Berlin:20250806T094500
DURATION:PT30M
LOCATION:Residenzschloss Neuburg\, Residenzstraße 2\, 86633 Neuburg an der
  Donau
END:VEVENT
END:VCALENDAR
