BEGIN:VCALENDAR
VERSION:2.0
PRODID:-//Sabre//Sabre VObject 4.5.8//EN
CALSCALE:GREGORIAN
BEGIN:VEVENT
UID:sabre-vobject-4dd2e03d-0a83-4ed2-a26f-ba4a7bd95e26
DTSTAMP:20260422T115536Z
SUMMARY:Wanderung nach Wellheim
DESCRIPTION:https://www.neuburg-donau.de/rathaus/ausschuesse-und-beiraete/s
 eniorenbeirat/veranstaltungen/wanderung-nach-wellheim_id38045
DTSTART;TZID=Europe/Berlin:20240625T123000
DURATION:PT30M
END:VEVENT
END:VCALENDAR
