BEGIN:VCALENDAR
VERSION:2.0
PRODID:-//Sabre//Sabre VObject 4.5.8//EN
CALSCALE:GREGORIAN
BEGIN:VEVENT
UID:sabre-vobject-2d08e3e0-6378-439c-a792-21c103195c0a
DTSTAMP:20260423T110626Z
SUMMARY:Wochenmarkt
DESCRIPTION:https://www.neuburg-donau.de/wochenmarkt_id41134
DTSTART;TZID=Europe/Berlin:20251217T063000
DTEND;TZID=Europe/Berlin:20251217T123000
LOCATION:Schrannenplatz\, Schrannenplatz\, 86633 Neuburg an der Donau
END:VEVENT
END:VCALENDAR
