BEGIN:VCALENDAR
VERSION:2.0
PRODID:-//Sabre//Sabre VObject 4.5.8//EN
CALSCALE:GREGORIAN
BEGIN:VEVENT
UID:sabre-vobject-2ec527b0-c84f-49ea-a85b-1cc5db861fc2
DTSTAMP:20260423T081140Z
SUMMARY:Wochenmarkt
DESCRIPTION:https://www.neuburg-donau.de/wochenmarkt_id41188
DTSTART;TZID=Europe/Berlin:20251227T063000
DTEND;TZID=Europe/Berlin:20251227T123000
LOCATION:Schrannenplatz\, Schrannenplatz\, 86633 Neuburg an der Donau
END:VEVENT
END:VCALENDAR
