BEGIN:VCALENDAR
VERSION:2.0
PRODID:-//Sabre//Sabre VObject 4.5.8//EN
CALSCALE:GREGORIAN
BEGIN:VEVENT
UID:sabre-vobject-b8b9e3b2-2ecb-4d39-860c-2914c7161c35
DTSTAMP:20260422T170347Z
SUMMARY:Jesus liebt mich
DESCRIPTION:https://www.neuburg-donau.de/jesus-liebt-mich_id47552
DTSTART;TZID=Europe/Berlin:20251217T200000
DURATION:PT30M
LOCATION:Stadttheater\, Residenzstraße A67\, 86633 Neuburg an der Donau
END:VEVENT
END:VCALENDAR
