BEGIN:VCALENDAR
VERSION:2.0
PRODID:-//Sabre//Sabre VObject 4.5.8//EN
CALSCALE:GREGORIAN
BEGIN:VEVENT
UID:sabre-vobject-7febf8af-d757-44b1-ab97-84f2d8c7efa9
DTSTAMP:20260422T115451Z
SUMMARY:Ü 60 Tanz des Neuburger Seniorenbeirats
DESCRIPTION:https://www.neuburg-donau.de/rathaus/ausschuesse-und-beiraete/s
 eniorenbeirat/veranstaltungen/ue-60-tanz-des-neuburger-seniorenbeirats_id4
 8296
DTSTART;TZID=Europe/Berlin:20260507T140000
DURATION:PT30M
END:VEVENT
END:VCALENDAR
