BEGIN:VCALENDAR
VERSION:2.0
PRODID:-//Sabre//Sabre VObject 4.5.8//EN
CALSCALE:GREGORIAN
BEGIN:VEVENT
UID:sabre-vobject-92d66301-fd2a-43b7-b8e8-c64f3bf682cf
DTSTAMP:20260423T081135Z
SUMMARY:Alleinerziehenden-Treff „Powerbank“
DESCRIPTION:https://www.neuburg-donau.de/alleinerziehenden-treff-powerbank_
 id48863
DTSTART;TZID=Europe/Berlin:20251128T160000
DTEND;TZID=Europe/Berlin:20251128T180000
LOCATION:Bürgerhaus Schwalbanger\, Richard-Wagner-Straße 6\, 86633 Neubur
 g an der Donau
END:VEVENT
END:VCALENDAR
