BEGIN:VCALENDAR
VERSION:2.0
PRODID:-//Sabre//Sabre VObject 4.5.8//EN
CALSCALE:GREGORIAN
BEGIN:VEVENT
UID:sabre-vobject-edff3218-04d6-4dd0-ba9b-7f93645a2e9e
DTSTAMP:20260421T095632Z
SUMMARY:Ehebande - (Ohn-)Macht der Frauen?
DESCRIPTION:https://www.neuburg-donau.de/ehebande-ohn-macht-der-frauen_id49
 196
DTSTART;TZID=Europe/Berlin:20260107T100000
DTEND;TZID=Europe/Berlin:20260107T160000
LOCATION:Residenzschloss Neuburg\, Residenzstraße 2\, 86633 Neuburg an der
  Donau
END:VEVENT
END:VCALENDAR
