BEGIN:VCALENDAR
VERSION:2.0
PRODID:-//Sabre//Sabre VObject 4.5.8//EN
CALSCALE:GREGORIAN
BEGIN:VEVENT
UID:sabre-vobject-39066a66-dc70-49f9-a7b5-ff61a2ce53c5
DTSTAMP:20260423T093332Z
SUMMARY:Wochenmarkt
DESCRIPTION:https://www.neuburg-donau.de/wochenmarkt_id49311
DTSTART;TZID=Europe/Berlin:20261007T063000
DTEND;TZID=Europe/Berlin:20261007T123000
LOCATION:Schrannenplatz\, Schrannenplatz\, 86633 Neuburg an der Donau
END:VEVENT
END:VCALENDAR
