BEGIN:VCALENDAR
VERSION:2.0
PRODID:-//Sabre//Sabre VObject 4.5.8//EN
CALSCALE:GREGORIAN
BEGIN:VEVENT
UID:sabre-vobject-2e6c9a44-dec4-4c79-9155-b0b9f5ac1f99
DTSTAMP:20260421T084253Z
SUMMARY:Wochenmarkt
DESCRIPTION:https://www.neuburg-donau.de/wochenmarkt_id49324
DTSTART;TZID=Europe/Berlin:20260103T063000
DTEND;TZID=Europe/Berlin:20260103T123000
LOCATION:Schrannenplatz\, Schrannenplatz\, 86633 Neuburg an der Donau
END:VEVENT
END:VCALENDAR
