BEGIN:VCALENDAR
VERSION:2.0
PRODID:-//Sabre//Sabre VObject 4.5.8//EN
CALSCALE:GREGORIAN
BEGIN:VEVENT
UID:sabre-vobject-30416d18-e8c3-4fe0-a329-aa310e1d7569
DTSTAMP:20260421T084304Z
SUMMARY:Wochenmarkt
DESCRIPTION:https://www.neuburg-donau.de/wochenmarkt_id49363
DTSTART;TZID=Europe/Berlin:20261002T063000
DTEND;TZID=Europe/Berlin:20261002T123000
LOCATION:Schrannenplatz\, Schrannenplatz\, 86633 Neuburg an der Donau
END:VEVENT
END:VCALENDAR
