BEGIN:VCALENDAR
VERSION:2.0
PRODID:-//Sabre//Sabre VObject 4.5.8//EN
CALSCALE:GREGORIAN
BEGIN:VEVENT
UID:sabre-vobject-f259c244-35a6-4ab6-880d-b15c0621b996
DTSTAMP:20260423T110510Z
SUMMARY:Wochenmarkt
DESCRIPTION:https://www.neuburg-donau.de/wochenmarkt_id49365
DTSTART;TZID=Europe/Berlin:20261017T063000
DTEND;TZID=Europe/Berlin:20261017T123000
LOCATION:Schrannenplatz\, Schrannenplatz\, 86633 Neuburg an der Donau
END:VEVENT
END:VCALENDAR
