BEGIN:VCALENDAR
VERSION:2.0
PRODID:-//Sabre//Sabre VObject 4.5.8//EN
CALSCALE:GREGORIAN
BEGIN:VEVENT
UID:sabre-vobject-88ef0e47-b123-4c12-a912-a27b09536252
DTSTAMP:20260421T084355Z
SUMMARY:Stammtisch für pflegende Angehörige
DESCRIPTION:https://www.neuburg-donau.de/rathaus/ausschuesse-und-beiraete/s
 eniorenbeirat/veranstaltungen/stammtisch-fuer-pflegende-angehoerige_id4939
 9
DTSTART;TZID=Europe/Berlin:20260521T150000
DURATION:PT30M
LOCATION:Backhaus Hackner\, Luitpoldstraße C 66\, 86633 Neuburg an der Don
 au
END:VEVENT
END:VCALENDAR
