BEGIN:VCALENDAR
VERSION:2.0
PRODID:-//Sabre//Sabre VObject 4.5.8//EN
CALSCALE:GREGORIAN
BEGIN:VEVENT
UID:sabre-vobject-4585125f-1280-453e-81e8-4913650f0f60
DTSTAMP:20260425T154604Z
SUMMARY:Öffentliche Stadtführung
DESCRIPTION:https://www.neuburg-donau.de/oeffentliche-stadtfuehrung_id49914
DTSTART;TZID=Europe/Berlin:20260720T143000
DTEND;TZID=Europe/Berlin:20260720T160000
LOCATION:Tourist-Information\, Ottheinrichplatz A 118\, 86633 Neuburg
END:VEVENT
END:VCALENDAR
