BEGIN:VCALENDAR
VERSION:2.0
PRODID:-//Sabre//Sabre VObject 4.5.8//EN
CALSCALE:GREGORIAN
BEGIN:VEVENT
UID:sabre-vobject-1821dac4-06d0-43e1-a859-f0c6c2158f89
DTSTAMP:20260423T155149Z
SUMMARY:Öffentliche Stadtführung
DESCRIPTION:https://www.neuburg-donau.de/oeffentliche-stadtfuehrung_id49932
DTSTART;TZID=Europe/Berlin:20260428T143000
DTEND;TZID=Europe/Berlin:20260428T160000
LOCATION:Tourist-Information\, Ottheinrichplatz A 118\, 86633 Neuburg
END:VEVENT
END:VCALENDAR
