BEGIN:VCALENDAR
VERSION:2.0
PRODID:-//Sabre//Sabre VObject 4.5.8//EN
CALSCALE:GREGORIAN
BEGIN:VEVENT
UID:sabre-vobject-f4f5d7d8-be8c-4718-8d06-c1d50a1fa5ec
DTSTAMP:20260423T110515Z
SUMMARY:Öffentliche Stadtführung
DESCRIPTION:https://www.neuburg-donau.de/oeffentliche-stadtfuehrung_id49938
DTSTART;TZID=Europe/Berlin:20260609T143000
DTEND;TZID=Europe/Berlin:20260609T160000
LOCATION:Tourist-Information\, Ottheinrichplatz A 118\, 86633 Neuburg
END:VEVENT
END:VCALENDAR
