BEGIN:VCALENDAR
VERSION:2.0
PRODID:-//Sabre//Sabre VObject 4.5.8//EN
CALSCALE:GREGORIAN
BEGIN:VEVENT
UID:sabre-vobject-072f99c5-655f-42bc-b3da-9bcf43275ce8
DTSTAMP:20260423T093336Z
SUMMARY:Öffentliche Stadtführung
DESCRIPTION:https://www.neuburg-donau.de/oeffentliche-stadtfuehrung_id49972
DTSTART;TZID=Europe/Berlin:20260709T143000
DTEND;TZID=Europe/Berlin:20260709T160000
LOCATION:Tourist-Information\, Ottheinrichplatz A 118\, 86633 Neuburg
END:VEVENT
END:VCALENDAR
