BEGIN:VCALENDAR
VERSION:2.0
PRODID:-//Sabre//Sabre VObject 4.5.8//EN
CALSCALE:GREGORIAN
BEGIN:VEVENT
UID:sabre-vobject-be97b867-8bf2-42c7-8bf0-01a444070c57
DTSTAMP:20260423T122537Z
SUMMARY:Öffentliche Stadtführung
DESCRIPTION:https://www.neuburg-donau.de/oeffentliche-stadtfuehrung_id50002
DTSTART;TZID=Europe/Berlin:20260712T143000
DTEND;TZID=Europe/Berlin:20260712T160000
LOCATION:Tourist-Information\, Ottheinrichplatz A 118\, 86633 Neuburg
END:VEVENT
END:VCALENDAR
