BEGIN:VCALENDAR
VERSION:2.0
PRODID:-//Sabre//Sabre VObject 4.5.8//EN
CALSCALE:GREGORIAN
BEGIN:VEVENT
UID:sabre-vobject-a893f7af-0dbb-4e64-b202-9b49285a8f9b
DTSTAMP:20260425T231633Z
SUMMARY:Rundwanderung über den Frauenberg nach Eichstätt
DESCRIPTION:https://www.neuburg-donau.de/rathaus/ausschuesse-und-beiraete/s
 eniorenbeirat/veranstaltungen/rundwanderung-ueber-den-frauenberg-nach-eich
 staett_id50319
DTSTART;TZID=Europe/Berlin:20260324T124500
DURATION:PT30M
END:VEVENT
END:VCALENDAR
