BEGIN:VCALENDAR
VERSION:2.0
PRODID:-//Sabre//Sabre VObject 4.5.8//EN
CALSCALE:GREGORIAN
BEGIN:VEVENT
UID:sabre-vobject-6a6b2845-4830-4e63-ad4c-cade63bd1694
DTSTAMP:20260425T201035Z
SUMMARY:Rundwanderung über Möckenlohe\, Nassenfels\, Gleßbrunnen
DESCRIPTION:https://www.neuburg-donau.de/rathaus/ausschuesse-und-beiraete/s
 eniorenbeirat/veranstaltungen/rundwanderung-ueber-moeckenlohe-nassenfels-g
 lessbrunnen_id50320
DTSTART;TZID=Europe/Berlin:20260428T124500
DURATION:PT30M
END:VEVENT
END:VCALENDAR
