BEGIN:VCALENDAR
VERSION:2.0
PRODID:-//Sabre//Sabre VObject 4.5.8//EN
CALSCALE:GREGORIAN
BEGIN:VEVENT
UID:sabre-vobject-13c83581-3913-437e-b8c3-c5274d62ba5d
DTSTAMP:20260423T111148Z
SUMMARY:Das Urwald-Musical
DESCRIPTION:https://www.neuburg-donau.de/das-urwald-musical_id51293
DTSTART;TZID=Europe/Berlin:20260314T170000
DURATION:PT30M
LOCATION:Stadttheater\, Residenzstraße A67\, 86633 Neuburg an der Donau
END:VEVENT
END:VCALENDAR
