BEGIN:VCALENDAR
VERSION:2.0
PRODID:-//Sabre//Sabre VObject 4.5.8//EN
CALSCALE:GREGORIAN
BEGIN:VEVENT
UID:sabre-vobject-7b7d6288-b816-4640-90e6-1c42e081143c
DTSTAMP:20260423T105551Z
SUMMARY:Sammeln - Forschen - Bewahren
DESCRIPTION:https://www.neuburg-donau.de/sammeln-forschen-bewahren_id51471
DTSTART;TZID=Europe/Berlin:20260705T100000
DTEND;TZID=Europe/Berlin:20260705T180000
LOCATION:Stadtmuseum Neuburg an der Donau\, Amalienstraße  19\, 86633 Neub
 urg an der Donau
END:VEVENT
END:VCALENDAR
