BEGIN:VCALENDAR
VERSION:2.0
PRODID:-//Sabre//Sabre VObject 4.5.8//EN
CALSCALE:GREGORIAN
BEGIN:VEVENT
UID:sabre-vobject-63841ebd-6df0-4fcf-a8be-7e02caac4e39
DTSTAMP:20260421T084259Z
SUMMARY:Sammeln - Forschen - Bewahren
DESCRIPTION:https://www.neuburg-donau.de/sammeln-forschen-bewahren_id51555
DTSTART;TZID=Europe/Berlin:20260702T100000
DTEND;TZID=Europe/Berlin:20260702T180000
LOCATION:Stadtmuseum Neuburg an der Donau\, Amalienstraße  19\, 86633 Neub
 urg an der Donau
END:VEVENT
END:VCALENDAR
