BEGIN:VCALENDAR
VERSION:2.0
PRODID:-//Sabre//Sabre VObject 4.5.8//EN
CALSCALE:GREGORIAN
BEGIN:VEVENT
UID:sabre-vobject-cada31a5-7598-4040-b730-57b2cca0e4d5
DTSTAMP:20260423T142840Z
SUMMARY:Radltour des Seniorenbeirats
DESCRIPTION:https://www.neuburg-donau.de/rathaus/ausschuesse-und-beiraete/s
 eniorenbeirat/veranstaltungen/radltour-des-seniorenbeirats_id51643
DTSTART;TZID=Europe/Berlin:20260506T100000
DURATION:PT30M
END:VEVENT
END:VCALENDAR
