BEGIN:VCALENDAR
VERSION:2.0
PRODID:-//Sabre//Sabre VObject 4.5.8//EN
CALSCALE:GREGORIAN
BEGIN:VEVENT
UID:sabre-vobject-086d7401-9ad9-42e1-996f-3660f1ad91bd
DTSTAMP:20260423T124012Z
SUMMARY:Radltour des Seniorenbeirats
DESCRIPTION:https://www.neuburg-donau.de/rathaus/ausschuesse-und-beiraete/s
 eniorenbeirat/veranstaltungen/radltour-des-seniorenbeirats_id51644
DTSTART;TZID=Europe/Berlin:20260603T100000
DURATION:PT30M
END:VEVENT
END:VCALENDAR
