BEGIN:VCALENDAR
VERSION:2.0
PRODID:-//Sabre//Sabre VObject 4.5.8//EN
CALSCALE:GREGORIAN
BEGIN:VEVENT
UID:sabre-vobject-971b62de-1bb1-4cb6-8053-63225483b299
DTSTAMP:20260423T124007Z
SUMMARY:Radltour des Seniorenbeirats
DESCRIPTION:https://www.neuburg-donau.de/rathaus/ausschuesse-und-beiraete/s
 eniorenbeirat/veranstaltungen/radltour-des-seniorenbeirats_id51650
DTSTART;TZID=Europe/Berlin:20260805T100000
DURATION:PT30M
END:VEVENT
END:VCALENDAR
