BEGIN:VCALENDAR
VERSION:2.0
PRODID:-//Sabre//Sabre VObject 4.5.8//EN
CALSCALE:GREGORIAN
BEGIN:VEVENT
UID:sabre-vobject-b509a30f-0012-45b2-adf7-2ddd41abfc0a
DTSTAMP:20260423T124049Z
SUMMARY:Radltour des Seniorenbeirats
DESCRIPTION:https://www.neuburg-donau.de/rathaus/ausschuesse-und-beiraete/s
 eniorenbeirat/veranstaltungen/radltour-des-seniorenbeirats_id51651
DTSTART;TZID=Europe/Berlin:20260902T100000
DURATION:PT30M
END:VEVENT
END:VCALENDAR
