BEGIN:VCALENDAR
VERSION:2.0
PRODID:-//Sabre//Sabre VObject 4.5.8//EN
CALSCALE:GREGORIAN
BEGIN:VEVENT
UID:sabre-vobject-3e138c44-d270-497b-a708-77ed8c4e8751
DTSTAMP:20260425T113403Z
SUMMARY:Radltour des Seniorenbeirats
DESCRIPTION:https://www.neuburg-donau.de/rathaus/ausschuesse-und-beiraete/s
 eniorenbeirat/veranstaltungen/radltour-des-seniorenbeirats_id51652
DTSTART;TZID=Europe/Berlin:20261007T133000
DURATION:PT30M
END:VEVENT
END:VCALENDAR
