BEGIN:VCALENDAR
VERSION:2.0
PRODID:-//Sabre//Sabre VObject 4.5.8//EN
CALSCALE:GREGORIAN
BEGIN:VEVENT
UID:sabre-vobject-ecf48dde-ba44-4342-b569-760b24abc639
DTSTAMP:20260421T084405Z
SUMMARY:Vortrag "Demenz\, Demenzformen\, Symptomatik\, Diagnostik\, Behandl
 ung"
DESCRIPTION:https://www.neuburg-donau.de/rathaus/ausschuesse-und-beiraete/s
 eniorenbeirat/veranstaltungen/vortrag-demenz-demenzformen-symptomatik-diag
 nostik-behandlung_id52558
DTSTART;TZID=Europe/Berlin:20260507T180000
DTEND;TZID=Europe/Berlin:20260507T190000
LOCATION:Geriatriezentrum Neuburg\, Bahnhofstraße 107\, 86633 Neuburg an d
 er Donau
END:VEVENT
END:VCALENDAR
