BEGIN:VCALENDAR
VERSION:2.0
PRODID:-//Sabre//Sabre VObject 4.5.8//EN
CALSCALE:GREGORIAN
BEGIN:VEVENT
UID:sabre-vobject-614b171b-2909-4e08-9ee0-9cb7301388de
DTSTAMP:20260423T081051Z
SUMMARY:Boule-Spiel auf dem Volksfestplatz
DESCRIPTION:https://www.neuburg-donau.de/rathaus/ausschuesse-und-beiraete/s
 eniorenbeirat/veranstaltungen/boule-spiel-auf-dem-volksfestplatz_id52561
DTSTART;TZID=Europe/Berlin:20260529T140000
DURATION:PT30M
LOCATION:Volksfestplatz\, Volksfestplatz\, 86633 Neuburg an der Donau
END:VEVENT
END:VCALENDAR
