BEGIN:VCALENDAR
VERSION:2.0
PRODID:-//Sabre//Sabre VObject 4.5.8//EN
CALSCALE:GREGORIAN
BEGIN:VEVENT
UID:sabre-vobject-bddf438b-dd9b-4ec1-b741-705821c390af
DTSTAMP:20260421T095618Z
SUMMARY:Freiluft-Training (Gymnastik)
DESCRIPTION:https://www.neuburg-donau.de/rathaus/ausschuesse-und-beiraete/s
 eniorenbeirat/veranstaltungen/freiluft-training-gymnastik_id52567
DTSTART;TZID=Europe/Berlin:20260526T100000
DTEND;TZID=Europe/Berlin:20260526T104500
LOCATION:Bürgerhaus Ostend\, Berliner Straße 164\, 86633 Neuburg an der D
 onau
END:VEVENT
END:VCALENDAR
