BEGIN:VCALENDAR
VERSION:2.0
PRODID:-//Sabre//Sabre VObject 4.5.8//EN
CALSCALE:GREGORIAN
BEGIN:VEVENT
UID:sabre-vobject-f8a048e7-1bf0-4022-a045-b01e914d08dd
DTSTAMP:20260422T013646Z
SUMMARY:Freiluft-Training (Gymnastik)
DESCRIPTION:https://www.neuburg-donau.de/rathaus/ausschuesse-und-beiraete/s
 eniorenbeirat/veranstaltungen/freiluft-training-gymnastik_id52572
DTSTART;TZID=Europe/Berlin:20260630T100000
DTEND;TZID=Europe/Berlin:20260630T104500
LOCATION:Bürgerhaus Ostend\, Berliner Straße 164\, 86633 Neuburg an der D
 onau
END:VEVENT
END:VCALENDAR
