BEGIN:VCALENDAR
VERSION:2.0
PRODID:-//Sabre//Sabre VObject 4.5.8//EN
CALSCALE:GREGORIAN
BEGIN:VEVENT
UID:sabre-vobject-40c7b3be-02f1-4cac-bee9-dcf3de374a8a
DTSTAMP:20260421T084309Z
SUMMARY:Senioren Ü60 Golfturnier
DESCRIPTION:https://www.neuburg-donau.de/rathaus/ausschuesse-und-beiraete/s
 eniorenbeirat/veranstaltungen/senioren-ue60-golfturnier_id52576
DTSTART;TZID=Europe/Berlin:20260508T093000
DTEND;TZID=Europe/Berlin:20260508T130000
LOCATION:Zieglers Golfplatz \, Matthias-Bauer-Straße 108\, 86633 Neuburg a
 n der Donau
END:VEVENT
END:VCALENDAR
